BEGIN:VCALENDAR
VERSION:2.0
PRODID:-//JACKS FOOD &amp; DRINKS - ECPv6.15.20//NONSGML v1.0//EN
CALSCALE:GREGORIAN
METHOD:PUBLISH
X-WR-CALNAME:JACKS FOOD &amp; DRINKS
X-ORIGINAL-URL:https://www.jackscafe.nl
X-WR-CALDESC:Evenementen voor JACKS FOOD &amp; DRINKS
REFRESH-INTERVAL;VALUE=DURATION:PT1H
X-Robots-Tag:noindex
X-PUBLISHED-TTL:PT1H
BEGIN:VTIMEZONE
TZID:Europe/Amsterdam
BEGIN:DAYLIGHT
TZOFFSETFROM:+0100
TZOFFSETTO:+0200
TZNAME:CEST
DTSTART:20250330T010000
END:DAYLIGHT
BEGIN:STANDARD
TZOFFSETFROM:+0200
TZOFFSETTO:+0100
TZNAME:CET
DTSTART:20251026T010000
END:STANDARD
BEGIN:DAYLIGHT
TZOFFSETFROM:+0100
TZOFFSETTO:+0200
TZNAME:CEST
DTSTART:20260329T010000
END:DAYLIGHT
BEGIN:STANDARD
TZOFFSETFROM:+0200
TZOFFSETTO:+0100
TZNAME:CET
DTSTART:20261025T010000
END:STANDARD
BEGIN:DAYLIGHT
TZOFFSETFROM:+0100
TZOFFSETTO:+0200
TZNAME:CEST
DTSTART:20270328T010000
END:DAYLIGHT
BEGIN:STANDARD
TZOFFSETFROM:+0200
TZOFFSETTO:+0100
TZNAME:CET
DTSTART:20271031T010000
END:STANDARD
END:VTIMEZONE
BEGIN:VEVENT
DTSTART;TZID=Europe/Amsterdam:20260426T180000
DTEND;TZID=Europe/Amsterdam:20260426T190000
DTSTAMP:20260426T014839
CREATED:20260323T172742Z
LAST-MODIFIED:20260323T172744Z
UID:5518-1777226400-1777230000@www.jackscafe.nl
SUMMARY:KONINGSNACHT bij JACKS – 26 APRIL! 
DESCRIPTION: KONINGSNACHT bij JACKS – 26 APRIL!  \n\n\n\n Buitenpodium\, volle barren & de vetste hits! 26 april gaan we keihard los bij JACKS in Heemskerk! Met een buitenpodium\, meerdere barren en de ultieme Party Show van DJ Barry & DJ Jacco Silver wordt dit een Koningsnacht om niet te missen!  \n\n\n\n Buitenpodium  Meerdere barren  DJ Barry & DJ Jacco Silver  Gratis entree!  \n\n\n\nTrek je oranje outfit aan en kom feesten!  \n\n\n\n 26 april | Vanaf 18:00 uurJACKS – Heemskerk \n\n\n\nWie komt dansen tot in de late uurtjes?  #Koningsnacht #JacksHeemskerk#PartyShow 
URL:https://www.jackscafe.nl/event/koningsnacht-bij-jacks-26-april/
ATTACH;FMTTYPE=image/png:https://www.jackscafe.nl/wp-content/uploads/2026/03/JACKS-KONINGSNACHT-2026-FB-TV.png
END:VEVENT
END:VCALENDAR