BEGIN:VCALENDAR
VERSION:2.0
PRODID:-//JACKS FOOD &amp; DRINKS - ECPv6.15.18//NONSGML v1.0//EN
CALSCALE:GREGORIAN
METHOD:PUBLISH
X-ORIGINAL-URL:https://www.jackscafe.nl
X-WR-CALDESC:Evenementen voor JACKS FOOD &amp; DRINKS
REFRESH-INTERVAL;VALUE=DURATION:PT1H
X-Robots-Tag:noindex
X-PUBLISHED-TTL:PT1H
BEGIN:VTIMEZONE
TZID:Europe/Amsterdam
BEGIN:DAYLIGHT
TZOFFSETFROM:+0100
TZOFFSETTO:+0200
TZNAME:CEST
DTSTART:20220327T010000
END:DAYLIGHT
BEGIN:STANDARD
TZOFFSETFROM:+0200
TZOFFSETTO:+0100
TZNAME:CET
DTSTART:20221030T010000
END:STANDARD
BEGIN:DAYLIGHT
TZOFFSETFROM:+0100
TZOFFSETTO:+0200
TZNAME:CEST
DTSTART:20230326T010000
END:DAYLIGHT
BEGIN:STANDARD
TZOFFSETFROM:+0200
TZOFFSETTO:+0100
TZNAME:CET
DTSTART:20231029T010000
END:STANDARD
BEGIN:DAYLIGHT
TZOFFSETFROM:+0100
TZOFFSETTO:+0200
TZNAME:CEST
DTSTART:20240331T010000
END:DAYLIGHT
BEGIN:STANDARD
TZOFFSETFROM:+0200
TZOFFSETTO:+0100
TZNAME:CET
DTSTART:20241027T010000
END:STANDARD
END:VTIMEZONE
BEGIN:VEVENT
DTSTART;TZID=Europe/Amsterdam:20230509T190000
DTEND;TZID=Europe/Amsterdam:20230509T235900
DTSTAMP:20260423T004633
CREATED:20230327T141113Z
LAST-MODIFIED:20230414T201939Z
UID:2191-1683658800-1683676740@www.jackscafe.nl
SUMMARY:Pubquiz
DESCRIPTION:PUBQUIZ!\n\nDe leukste PUBQUIZ in Heemskerk. Gezellig quizzen met quizmaster Olav.\n\nTevens natuurlijk leuke prijzen te winnen voor de 1e\, 2e en 3e plek.\n\nReserveer hier gemakkelijk je tafeltje!
URL:https://www.jackscafe.nl/event/pubquiz-10/
LOCATION:JACKS Food & Drinks\, Kerkweg 9\, Heemskerk\, 1962AJ\, Nederland
CATEGORIES:PUBQUIZ
END:VEVENT
BEGIN:VEVENT
DTSTART;TZID=Europe/Amsterdam:20230620T190000
DTEND;TZID=Europe/Amsterdam:20230620T235900
DTSTAMP:20260423T004633
CREATED:20230327T141211Z
LAST-MODIFIED:20230509T165917Z
UID:2193-1687287600-1687305540@www.jackscafe.nl
SUMMARY:Pubquiz
DESCRIPTION:PUBQUIZ! \nDe leukste PUBQUIZ in Heemskerk. Gezellig quizzen met quizmaster Olav. \nTevens natuurlijk leuke prijzen te winnen voor de 1e\, 2e en 3e plek. \nReserveer hier gemakkelijk je tafeltje!
URL:https://www.jackscafe.nl/event/pubquiz-11/
LOCATION:JACKS Food & Drinks\, Kerkweg 9\, Heemskerk\, 1962AJ\, Nederland
CATEGORIES:PUBQUIZ
END:VEVENT
END:VCALENDAR