BEGIN:VCALENDAR
VERSION:2.0
PRODID:-//JACKS FOOD &amp; DRINKS - ECPv6.15.18//NONSGML v1.0//EN
CALSCALE:GREGORIAN
METHOD:PUBLISH
X-ORIGINAL-URL:https://www.jackscafe.nl
X-WR-CALDESC:Evenementen voor JACKS FOOD &amp; DRINKS
REFRESH-INTERVAL;VALUE=DURATION:PT1H
X-Robots-Tag:noindex
X-PUBLISHED-TTL:PT1H
BEGIN:VTIMEZONE
TZID:Europe/Amsterdam
BEGIN:DAYLIGHT
TZOFFSETFROM:+0100
TZOFFSETTO:+0200
TZNAME:CEST
DTSTART:20220327T010000
END:DAYLIGHT
BEGIN:STANDARD
TZOFFSETFROM:+0200
TZOFFSETTO:+0100
TZNAME:CET
DTSTART:20221030T010000
END:STANDARD
BEGIN:DAYLIGHT
TZOFFSETFROM:+0100
TZOFFSETTO:+0200
TZNAME:CEST
DTSTART:20230326T010000
END:DAYLIGHT
BEGIN:STANDARD
TZOFFSETFROM:+0200
TZOFFSETTO:+0100
TZNAME:CET
DTSTART:20231029T010000
END:STANDARD
BEGIN:DAYLIGHT
TZOFFSETFROM:+0100
TZOFFSETTO:+0200
TZNAME:CEST
DTSTART:20240331T010000
END:DAYLIGHT
BEGIN:STANDARD
TZOFFSETFROM:+0200
TZOFFSETTO:+0100
TZNAME:CET
DTSTART:20241027T010000
END:STANDARD
BEGIN:DAYLIGHT
TZOFFSETFROM:+0100
TZOFFSETTO:+0200
TZNAME:CEST
DTSTART:20250330T010000
END:DAYLIGHT
BEGIN:STANDARD
TZOFFSETFROM:+0200
TZOFFSETTO:+0100
TZNAME:CET
DTSTART:20251026T010000
END:STANDARD
END:VTIMEZONE
BEGIN:VEVENT
DTSTART;TZID=Europe/Amsterdam:20240319T080000
DTEND;TZID=Europe/Amsterdam:20240319T170000
DTSTAMP:20260419T174407
CREATED:20240319T184126Z
LAST-MODIFIED:20240319T184128Z
UID:3388-1710835200-1710867600@www.jackscafe.nl
SUMMARY:GAMBA AVOND
DESCRIPTION:🍤🔥 Zet 15 mei in je agenda voor een smaakvolle gamba-ervaring bij ons café! 🔥🍤 Op 15 mei vuren we de grill aan voor een overheerlijke avond vol sappige gamba’s\, geserveerd met knapperig brood en verrukkelijke sausjes! 😋 \n\n\n\nLaat je smaakpapillen dansen terwijl we de beste gamba’s bereiden\, recht van de grill op je bord. 🍴 Een onmisbare avond voor liefhebbers van zeevruchten en gezelligheid! \n\n\n\nTag je vrienden en verzeker jezelf van een plekje aan tafel voor deze culinaire ervaring. Mis het niet! 🎉 \n\n\n\n#GambaAvond #GrillSpecials #Smaakexplosie #CaféCulinaire
URL:https://www.jackscafe.nl/event/gamba-avond/
LOCATION:JACKS Food & Drinks\, Kerkweg 9\, Heemskerk\, 1962AJ\, Nederland
END:VEVENT
BEGIN:VEVENT
DTSTART;TZID=Europe/Amsterdam:20240313T180000
DTEND;TZID=Europe/Amsterdam:20240313T200000
DTSTAMP:20260419T174407
CREATED:20231128T201025Z
LAST-MODIFIED:20240206T102554Z
UID:2974-1710352800-1710360000@www.jackscafe.nl
SUMMARY:SPARERIBS AVOND
DESCRIPTION:De lekkerste spareribs van de grill in het cafe\, voor 25.- p/p.Reserveer snel want vol is vol en op is op! \n\n\n\n\n\n\nRESERVEER HIER
URL:https://www.jackscafe.nl/event/onbeperkt-spareribs/
LOCATION:JACKS Food & Drinks\, Kerkweg 9\, Heemskerk\, 1962AJ\, Nederland
END:VEVENT
BEGIN:VEVENT
DTSTART;TZID=Europe/Amsterdam:20240306T183000
DTEND;TZID=Europe/Amsterdam:20240306T193000
DTSTAMP:20260419T174407
CREATED:20240114T145705Z
LAST-MODIFIED:20240116T200325Z
UID:3150-1709749800-1709753400@www.jackscafe.nl
SUMMARY:Pubquiz
DESCRIPTION:De leukste PUBQUIZ in Heemskerk.Onze keuken is geopend voor een lekkere hap\, kom gezellige wat eten voor de quiz!Kom gezellig quizzen met quizmaster Olav.Tevens natuurlijk leuke prijzen te winnen voor de 1e\, 2e en 3e plek.We houden geen voorkeur tafels vrij\, wie het eerste komt wie het eerste maalt ;-).Bestel hier snel je tickets online. Iedere 1e woensdag van de maand.
URL:https://www.jackscafe.nl/event/pubquiz-15/
LOCATION:JACKS Food & Drinks\, Kerkweg 9\, Heemskerk\, 1962AJ\, Nederland
END:VEVENT
BEGIN:VEVENT
DTSTART;TZID=Europe/Amsterdam:20240228T180000
DTEND;TZID=Europe/Amsterdam:20240228T200000
DTSTAMP:20260419T174407
CREATED:20240116T200134Z
LAST-MODIFIED:20240116T200135Z
UID:3168-1709143200-1709150400@www.jackscafe.nl
SUMMARY:PROEVERIJ TRIPEL BIEREN
DESCRIPTION:Onze thema met deze proeverij is WINTER \,de ultieme bierproeverij met speciaalbieren van de tap\, geserveerd met bij iedere gang bijpassende luxe hapjes. De hapjes zijn avondvullend\, thuis koken hoeft dus niet!4 gangen winterbieren en 4 gangen bijpassende luxe hapjes.
URL:https://www.jackscafe.nl/event/proeverij-tripel-bieren/
LOCATION:JACKS Food & Drinks\, Kerkweg 9\, Heemskerk\, 1962AJ\, Nederland
END:VEVENT
BEGIN:VEVENT
DTSTART;TZID=Europe/Amsterdam:20240215T190000
DTEND;TZID=Europe/Amsterdam:20240215T220000
DTSTAMP:20260419T174407
CREATED:20240116T195117Z
LAST-MODIFIED:20240116T195118Z
UID:3163-1708023600-1708034400@www.jackscafe.nl
SUMMARY:WIJN & KAAS AVOND
DESCRIPTION:Wijn & kaas avond!Deze avond serveren wij 5 mooie wijnen en 5 heerlijke kazen. De wijnen zijn buiten de kaart om van Bart wijnen en de kazen komen van Simon Kaas & Noten uit Heemskerk.Reserveer hier gemakkelijk voor onze 1e editie wijn en kaas thema avond!
URL:https://www.jackscafe.nl/event/wijn-kaas-avond/
END:VEVENT
BEGIN:VEVENT
DTSTART;TZID=Europe/Amsterdam:20240214T180000
DTEND;TZID=Europe/Amsterdam:20240214T203000
DTSTAMP:20260419T174407
CREATED:20240116T195426Z
LAST-MODIFIED:20240116T195427Z
UID:3165-1707933600-1707942600@www.jackscafe.nl
SUMMARY:Valentijnsdag
DESCRIPTION:Het is alweer bijna Valentijnsdag… Komen jullie dit samen vieren in JACKS?Wij zorgen voor rode rozen\, een ontspannen ambiance en leggen jou en je liefde graag in de watten met een 4 gangen proeverij. Wij zetten de drankjes koud en de keuken zorgt voor de lekkere hapjes. Je kunt kiezen uit mooie wijnen of speciaal bieren.
URL:https://www.jackscafe.nl/event/valentijnsdag/
LOCATION:JACKS Food & Drinks\, Kerkweg 9\, Heemskerk\, 1962AJ\, Nederland
END:VEVENT
BEGIN:VEVENT
DTSTART;TZID=Europe/Amsterdam:20240207T183000
DTEND;TZID=Europe/Amsterdam:20240207T190000
DTSTAMP:20260419T174407
CREATED:20240114T145339Z
LAST-MODIFIED:20240116T200354Z
UID:3148-1707330600-1707332400@www.jackscafe.nl
SUMMARY:Pubquiz
DESCRIPTION:De leukste PUBQUIZ in Heemskerk.Onze keuken is geopend voor een lekkere hap\, kom gezellige wat eten voor de quiz!Kom gezellig quizzen met quizmaster Olav.Tevens natuurlijk leuke prijzen te winnen voor de 1e\, 2e en 3e plek.We houden geen voorkeur tafels vrij\, wie het eerste komt wie het eerste maalt ;-).Bestel hier snel je tickets online. Iedere 1e woensdag van de maand.
URL:https://www.jackscafe.nl/event/pubquiz-14/
LOCATION:JACKS Food & Drinks\, Kerkweg 9\, Heemskerk\, 1962AJ\, Nederland
END:VEVENT
BEGIN:VEVENT
DTSTART;TZID=Europe/Amsterdam:20240124T180000
DTEND;TZID=Europe/Amsterdam:20240124T200000
DTSTAMP:20260419T174407
CREATED:20231128T203450Z
LAST-MODIFIED:20231203T084209Z
UID:2978-1706119200-1706126400@www.jackscafe.nl
SUMMARY:PROEVERIJ WINTERBIEREN
DESCRIPTION:Onze thema met deze proeverij is WINTER \,de ultieme bierproeverij met speciaalbieren van de tap\, geserveerd met bij iedere gang bijpassende luxe hapjes. De hapjes zijn avondvullend\, thuis koken hoeft dus niet!4 gangen winterbieren en 4 gangen bijpassende luxe hapjes.
URL:https://www.jackscafe.nl/event/proeverij-winterbieren/
LOCATION:JACKS Food & Drinks\, Kerkweg 9\, Heemskerk\, 1962AJ\, Nederland
END:VEVENT
BEGIN:VEVENT
DTSTART;TZID=Europe/Amsterdam:20240117T170000
DTEND;TZID=Europe/Amsterdam:20240117T183000
DTSTAMP:20260419T174407
CREATED:20230922T063714Z
LAST-MODIFIED:20240112T091843Z
UID:2772-1705510800-1705516200@www.jackscafe.nl
SUMMARY:Pubquiz *UITVERKOCHT*
DESCRIPTION:De leukste PUBQUIZ in Heemskerk. (Pubquiz *UITVERKOCHT*)Onze keuken is geopend voor een lekkere hap\, kom gezellige wat eten voor de quiz!Kom gezellig quizzen met quizmaster Olav.Tevens natuurlijk leuke prijzen te winnen voor de 1e\, 2e en 3e plek.We houden geen voorkeur tafels vrij\, wie het eerste komt wie het eerste maalt ;-).Bestel hier snel je tickets online. Iedere 1e woensdag van de maand.
URL:https://www.jackscafe.nl/event/pubquiz-13/
LOCATION:JACKS Food & Drinks\, Kerkweg 9\, Heemskerk\, 1962AJ\, Nederland
END:VEVENT
BEGIN:VEVENT
DTSTART;TZID=Europe/Amsterdam:20240101T150000
DTEND;TZID=Europe/Amsterdam:20240101T230000
DTSTAMP:20260419T174407
CREATED:20231122T192352Z
LAST-MODIFIED:20231122T193004Z
UID:2957-1704121200-1704150000@www.jackscafe.nl
SUMMARY:Bubbels & Ballen Nieuwjaarsborrel
DESCRIPTION:Traditie getrouw komen we samen in het cafe voor een bubbel en een bal van het huis! Het belooft weer een goed begin van het nieuwe jaar te worden. Vanaf 15:00 ben je welkom om te proosten samen met ons.
URL:https://www.jackscafe.nl/event/bubbels-ballen-nieuwjaarsborrel/
LOCATION:JACKS Food & Drinks\, Kerkweg 9\, Heemskerk\, 1962AJ\, Nederland
END:VEVENT
BEGIN:VEVENT
DTSTART;TZID=Europe/Amsterdam:20231225T120000
DTEND;TZID=Europe/Amsterdam:20231226T010000
DTSTAMP:20260419T174407
CREATED:20231122T191958Z
LAST-MODIFIED:20231122T192000Z
UID:2955-1703505600-1703552400@www.jackscafe.nl
SUMMARY:2e kerstdag
DESCRIPTION:Iedere even zat? Kom lekker naar het cafe. Barhangen\, stamtafel pakken of gewoon lekker zitten in de serre. Lekker wat eten en drinken zoals je van ons gewend bent. Als de keuken dicht gaat gaan de tafels en stoelen aan de kant om een dansje te wagen\, wij zijn er. Jij ook?
URL:https://www.jackscafe.nl/event/2e-kerstdag/
END:VEVENT
BEGIN:VEVENT
DTSTART;TZID=Europe/Amsterdam:20231224T200000
DTEND;TZID=Europe/Amsterdam:20231225T023000
DTSTAMP:20260419T174407
CREATED:20231122T191605Z
LAST-MODIFIED:20231122T191616Z
UID:2953-1703448000-1703471400@www.jackscafe.nl
SUMMARY:KERSTAVOND BEATS & DRINKS
DESCRIPTION:“All I Want for Christmas Is You”… de avond om je kerstweekend in te luiden! Met volle borst meezingen met alle voute kerstliedjes! Kom op tijd want vol is echt vol!
URL:https://www.jackscafe.nl/event/kerstavond-beats-drinks/
LOCATION:JACKS Food & Drinks\, Kerkweg 9\, Heemskerk\, 1962AJ\, Nederland
END:VEVENT
BEGIN:VEVENT
DTSTART;TZID=Europe/Amsterdam:20231223T220000
DTEND;TZID=Europe/Amsterdam:20231224T230000
DTSTAMP:20260419T174407
CREATED:20231122T191242Z
LAST-MODIFIED:20231122T191243Z
UID:2951-1703368800-1703458800@www.jackscafe.nl
SUMMARY:JACKS DJ NIGHT
DESCRIPTION:JACKS DJ NIGHT is aan. Onze huis DJ’s komen de lekkerste guilty pleasers\, 90’s en de “herken je die nog hitjes” en vele dikke plaatjes! Voetjes van de vloer\, wees erbij!
URL:https://www.jackscafe.nl/event/jacks-dj-night-2/
LOCATION:JACKS Food & Drinks\, Kerkweg 9\, Heemskerk\, 1962AJ\, Nederland
END:VEVENT
BEGIN:VEVENT
DTSTART;TZID=Europe/Amsterdam:20231216T020000
DTEND;TZID=Europe/Amsterdam:20231217T023000
DTSTAMP:20260419T174407
CREATED:20231122T191126Z
LAST-MODIFIED:20231122T191128Z
UID:2949-1702692000-1702780200@www.jackscafe.nl
SUMMARY:JACKS DJ NIGHT
DESCRIPTION:JACKS DJ NIGHT is aan. Onze huis DJ’s komen de lekkerste guilty pleasers\, 90’s en de “herken je die nog hitjes” en vele dikke plaatjes! Voetjes van de vloer\, wees erbij!
URL:https://www.jackscafe.nl/event/jacks-dj-night/
LOCATION:JACKS Food & Drinks\, Kerkweg 9\, Heemskerk\, 1962AJ\, Nederland
END:VEVENT
BEGIN:VEVENT
DTSTART;TZID=Europe/Amsterdam:20231214T200000
DTEND;TZID=Europe/Amsterdam:20231214T230000
DTSTAMP:20260419T174407
CREATED:20231122T190725Z
LAST-MODIFIED:20231122T190727Z
UID:2946-1702584000-1702594800@www.jackscafe.nl
SUMMARY:KARAOKE CAFE
DESCRIPTION:Ja! Guilty pleasures! Zing ze allemaal\, met een drankje en een hapje 😉
URL:https://www.jackscafe.nl/event/karaoke-cafe/
LOCATION:JACKS Food & Drinks\, Kerkweg 9\, Heemskerk\, 1962AJ\, Nederland
END:VEVENT
BEGIN:VEVENT
DTSTART;TZID=Europe/Amsterdam:20231212T170000
DTEND;TZID=Europe/Amsterdam:20231212T230000
DTSTAMP:20260419T174407
CREATED:20231122T192816Z
LAST-MODIFIED:20231122T192818Z
UID:2959-1702400400-1702422000@www.jackscafe.nl
SUMMARY:QUIZ TOP 2000 + Burger! 
DESCRIPTION:De December quiz met een lekkere Burger. Reserveer snel want vol is vol!De leukste TOP 2000 QUIZ in Heemskerk.Kom gezellig quizzen met quizmaster Olav.Tevens natuurlijk leuke prijzen te winnen voor de 1e\, 2e en 3e plek.Bestel hier snel je tickets online.
URL:https://www.jackscafe.nl/event/quiz-top-2000-burger/
LOCATION:JACKS Food & Drinks\, Kerkweg 9\, Heemskerk\, 1962AJ\, Nederland
END:VEVENT
BEGIN:VEVENT
DTSTART;TZID=Europe/Amsterdam:20231202T220000
DTEND;TZID=Europe/Amsterdam:20231203T020000
DTSTAMP:20260419T174407
CREATED:20230904T192828Z
LAST-MODIFIED:20230904T194230Z
UID:2688-1701554400-1701568800@www.jackscafe.nl
SUMMARY:DJ VINYL.Y
DESCRIPTION:Vinyl night is aan! DJ VINYL.Y komt de lekkerste guilty pleasers draaien\, de “herken je die nog hitjes” en vele gouwe ouwe plaatjes Voetjes van de vloer\, wees erbij!
URL:https://www.jackscafe.nl/event/dj-vinyl-y-3/
LOCATION:JACKS Food & Drinks\, Kerkweg 9\, Heemskerk\, 1962AJ\, Nederland
END:VEVENT
BEGIN:VEVENT
DTSTART;TZID=Europe/Amsterdam:20231119T120000
DTEND;TZID=Europe/Amsterdam:20231119T170000
DTSTAMP:20260419T174407
CREATED:20230904T193412Z
LAST-MODIFIED:20230920T060526Z
UID:2694-1700395200-1700413200@www.jackscafe.nl
SUMMARY:SINTERKLAASINTOCHT HEEMSKERK
DESCRIPTION:
URL:https://www.jackscafe.nl/event/sinterklaasintocht-heemskerk/
LOCATION:JACKS Food & Drinks\, Kerkweg 9\, Heemskerk\, 1962AJ\, Nederland
END:VEVENT
BEGIN:VEVENT
DTSTART;TZID=Europe/Amsterdam:20231104T220000
DTEND;TZID=Europe/Amsterdam:20231105T230000
DTSTAMP:20260419T174407
CREATED:20230904T192739Z
LAST-MODIFIED:20230904T192740Z
UID:2686-1699135200-1699225200@www.jackscafe.nl
SUMMARY:DJ VINYL.Y
DESCRIPTION:Vinyl night is aan! DJ VINYL.Y komt de lekkerste guilty pleasers draaien\, de “herken je die nog hitjes” en vele gouwe ouwe plaatjes Voetjes van de vloer\, wees erbij!
URL:https://www.jackscafe.nl/event/dj-vinyl-y-2/
LOCATION:JACKS Food & Drinks\, Kerkweg 9\, Heemskerk\, 1962AJ\, Nederland
END:VEVENT
BEGIN:VEVENT
DTSTART;TZID=Europe/Amsterdam:20231029T120000
DTEND;TZID=Europe/Amsterdam:20231029T170000
DTSTAMP:20260419T174407
CREATED:20230904T193027Z
LAST-MODIFIED:20230904T193028Z
UID:2690-1698580800-1698598800@www.jackscafe.nl
SUMMARY:BOCKBIERTOCHT
DESCRIPTION:De leukste BOCKBIERTOCHT van Heemskerk
URL:https://www.jackscafe.nl/event/bockbiertocht/
LOCATION:JACKS Food & Drinks\, Kerkweg 9\, Heemskerk\, 1962AJ\, Nederland
END:VEVENT
BEGIN:VEVENT
DTSTART;TZID=Europe/Amsterdam:20231028T210000
DTEND;TZID=Europe/Amsterdam:20231029T020000
DTSTAMP:20260419T174407
CREATED:20230919T193139Z
LAST-MODIFIED:20230919T193140Z
UID:2759-1698526800-1698544800@www.jackscafe.nl
SUMMARY:HALLOWEEN DJ NIGHT
DESCRIPTION:Scary! Durf jij het aan? Kom verkleed en dans je gek op de beats van DJ MENTWITT
URL:https://www.jackscafe.nl/event/halloween-dj-night/
LOCATION:JACKS Food & Drinks\, Kerkweg 9\, Heemskerk\, 1962AJ\, Nederland
END:VEVENT
BEGIN:VEVENT
DTSTART;TZID=Europe/Amsterdam:20231015T150000
DTEND;TZID=Europe/Amsterdam:20231015T210000
DTSTAMP:20260419T174407
CREATED:20230919T192702Z
LAST-MODIFIED:20230919T192704Z
UID:2755-1697382000-1697403600@www.jackscafe.nl
SUMMARY:BOCK BIER PROEVERIJ
DESCRIPTION:Verschillende bock bieren van de tap en fles. Laat de bock in je los!
URL:https://www.jackscafe.nl/event/bock-bier-proeverij/
LOCATION:JACKS Food & Drinks\, Kerkweg 9\, Heemskerk\, 1962AJ\, Nederland
END:VEVENT
BEGIN:VEVENT
DTSTART;TZID=Europe/Amsterdam:20231012T200000
DTEND;TZID=Europe/Amsterdam:20231012T230000
DTSTAMP:20260419T174407
CREATED:20230919T192521Z
LAST-MODIFIED:20230919T193726Z
UID:2753-1697140800-1697151600@www.jackscafe.nl
SUMMARY:KARAOKE
DESCRIPTION:Zing mee in het gezelligste cafe van Heemskerk
URL:https://www.jackscafe.nl/event/karaoke/
LOCATION:JACKS Food & Drinks\, Kerkweg 9\, Heemskerk\, 1962AJ\, Nederland
END:VEVENT
BEGIN:VEVENT
DTSTART;TZID=Europe/Amsterdam:20231010T190000
DTEND;TZID=Europe/Amsterdam:20231010T230000
DTSTAMP:20260419T174407
CREATED:20230621T094528Z
LAST-MODIFIED:20230805T112406Z
UID:2447-1696964400-1696978800@www.jackscafe.nl
SUMMARY:Pubquiz
DESCRIPTION:De leukste PUBQUIZ in Heemskerk. Kom gezellig quizzen met quizmaster Olav. Tevens natuurlijk leuke prijzen te winnen voor de 1e\, 2e en 3e plek. Bestel hier snel je tickets online.
URL:https://www.jackscafe.nl/event/pubquiz-12/
LOCATION:JACKS Food & Drinks\, Kerkweg 9\, Heemskerk\, 1962AJ\, Nederland
END:VEVENT
BEGIN:VEVENT
DTSTART;TZID=Europe/Amsterdam:20231007T220000
DTEND;TZID=Europe/Amsterdam:20231008T020000
DTSTAMP:20260419T174407
CREATED:20230904T192603Z
LAST-MODIFIED:20230904T193835Z
UID:2682-1696716000-1696730400@www.jackscafe.nl
SUMMARY:DJ VINYL.Y
DESCRIPTION:Vinyl night is aan! DJ VINYL.Y komt de lekkerste guilty pleasers draaien\, de “herken je die nog hitjes” en vele gouwe ouwe plaatjes Voetjes van de vloer\, wees erbij! \n\n\n\n\n\n\n\n\n\n\n\n\n\n\n\n\n\n\n\n\n\n\n\nDJ VINYL.Y
URL:https://www.jackscafe.nl/event/dj-vinyl-y/
LOCATION:JACKS Food & Drinks\, Kerkweg 9\, Heemskerk\, 1962AJ\, Nederland
END:VEVENT
BEGIN:VEVENT
DTSTART;TZID=Europe/Amsterdam:20231003T193000
DTEND;TZID=Europe/Amsterdam:20231003T235959
DTSTAMP:20260419T174407
CREATED:20230915T081803Z
LAST-MODIFIED:20230915T081805Z
UID:2736-1696361400-1696377599@www.jackscafe.nl
SUMMARY:"We Love the 90's & 00's Feel-Good-Quiz met Muziekbingo"
DESCRIPTION:Na onze onwijs leuke en stijf uitverkochte 1e editie komt er een volledig nieuwe 2e editie naar Heemskerk! Het is weer tijd om je Furby tot leven te wekken en je Flippo en Diddl verzameling af te stoffen. Zet die CD’s van de Backstreet Boys en ChipZ maar weer op en stop die Lion King videoband maar weer in je videorecorder want het is tijd om weer terug te gaan naar die heerlijke jaren 90 en 00!  \n\n\n\nOp dinsdagavond 3 oktober organiseren we een volledig nieuwe (2e editie) van de “We Love the 90’s & 00’s Feel-Good-Quiz met Muziekbingo” en daar kan jij met jouw team (maximaal 6 personen) aan meedoen en te gekke prijzen winnen! \n\n\n\n\n\n\n\n \n\n\n\nAanmelden kan direct via www.jeroencitroen.nl/aanmelden (deelname is 10 euro of 22 gulden p.p.) \n\n\n\n\n\n\n\n\n\nwww.jeroencitroen.nl/aanmelden
URL:https://www.jackscafe.nl/event/we-love-the-90s-00s-feel-good-quiz-met-muziekbingo/
LOCATION:JACKS Food & Drinks\, Kerkweg 9\, Heemskerk\, 1962AJ\, Nederland
END:VEVENT
BEGIN:VEVENT
DTSTART;TZID=Europe/Amsterdam:20230919T130000
DTEND;TZID=Europe/Amsterdam:20230919T190000
DTSTAMP:20260419T174407
CREATED:20230919T193637Z
LAST-MODIFIED:20230919T193638Z
UID:2761-1695128400-1695150000@www.jackscafe.nl
SUMMARY:BOCKBIER TOCHT HEEMSKERK
DESCRIPTION:Tijdens de BOCKBIER TOCHT HEEMSKERK krijg je bij ál de leukste café’s een speciaal geselecteerd biertje én een barbite.
URL:https://www.jackscafe.nl/event/bockbier-tocht-heemskerk/
LOCATION:JACKS Food & Drinks\, Kerkweg 9\, Heemskerk\, 1962AJ\, Nederland
END:VEVENT
BEGIN:VEVENT
DTSTART;TZID=Europe/Amsterdam:20230908T150000
DTEND;TZID=Europe/Amsterdam:20230908T150000
DTSTAMP:20260419T174407
CREATED:20230810T155819Z
LAST-MODIFIED:20230810T155820Z
UID:2606-1694185200-1694185200@www.jackscafe.nl
SUMMARY:Laatste Deuntje
DESCRIPTION:Het is weer meezingen geblazen met het leukste feest in ons dorp. Bands\, DJ’s en zangers komen optreden in het gezelligste café van Heemskerk.Met Pal & Hanz\, DJ Rido en DJ Mentwitt
URL:https://www.jackscafe.nl/event/laatste-deuntje/
END:VEVENT
BEGIN:VEVENT
DTSTART;TZID=Europe/Amsterdam:20230907T110000
DTEND;TZID=Europe/Amsterdam:20230907T110000
DTSTAMP:20260419T174407
CREATED:20230810T155643Z
LAST-MODIFIED:20230810T155645Z
UID:2604-1694084400-1694084400@www.jackscafe.nl
SUMMARY:Paardenkoers
DESCRIPTION:Het is weer meezingen geblazen met het leukste feest in ons dorp. Bands\, DJ’s en zangers komen optreden in het gezelligste café van Heemskerk.Met Yves Berendse\, Schuurmans en Schuurmans\, DJ Rido en DJ Mentwitt
URL:https://www.jackscafe.nl/event/paardenkoers/
END:VEVENT
BEGIN:VEVENT
DTSTART;TZID=Europe/Amsterdam:20230906T103000
DTEND;TZID=Europe/Amsterdam:20230906T103000
DTSTAMP:20260419T174407
CREATED:20230810T155038Z
LAST-MODIFIED:20230810T155040Z
UID:2596-1693996200-1693996200@www.jackscafe.nl
SUMMARY:Eerste deuntje
DESCRIPTION:Het is weer meezingen geblazen met het leukste feest in ons dorp. Bands\, DJ’s en zangers komen optreden in het gezelligste café van Heemskerk. Met Danny Panadero\, OJKB\, Dreamcast\, DJ Bruun en DJ Rido.
URL:https://www.jackscafe.nl/event/eerste-deuntje/
END:VEVENT
END:VCALENDAR